BEGIN:VCALENDAR
VERSION:2.0
PRODID:-//Haigs Creek Homeowners Association - ECPv6.15.20//NONSGML v1.0//EN
CALSCALE:GREGORIAN
METHOD:PUBLISH
X-WR-CALNAME:Haigs Creek Homeowners Association
X-ORIGINAL-URL:https://haigscreekhoa.com
X-WR-CALDESC:Events for Haigs Creek Homeowners Association
REFRESH-INTERVAL;VALUE=DURATION:PT1H
X-Robots-Tag:noindex
X-PUBLISHED-TTL:PT1H
BEGIN:VTIMEZONE
TZID:America/New_York
BEGIN:DAYLIGHT
TZOFFSETFROM:-0500
TZOFFSETTO:-0400
TZNAME:EDT
DTSTART:20200308T070000
END:DAYLIGHT
BEGIN:STANDARD
TZOFFSETFROM:-0400
TZOFFSETTO:-0500
TZNAME:EST
DTSTART:20201101T060000
END:STANDARD
BEGIN:DAYLIGHT
TZOFFSETFROM:-0500
TZOFFSETTO:-0400
TZNAME:EDT
DTSTART:20210314T070000
END:DAYLIGHT
BEGIN:STANDARD
TZOFFSETFROM:-0400
TZOFFSETTO:-0500
TZNAME:EST
DTSTART:20211107T060000
END:STANDARD
BEGIN:DAYLIGHT
TZOFFSETFROM:-0500
TZOFFSETTO:-0400
TZNAME:EDT
DTSTART:20220313T070000
END:DAYLIGHT
BEGIN:STANDARD
TZOFFSETFROM:-0400
TZOFFSETTO:-0500
TZNAME:EST
DTSTART:20221106T060000
END:STANDARD
BEGIN:DAYLIGHT
TZOFFSETFROM:-0500
TZOFFSETTO:-0400
TZNAME:EDT
DTSTART:20230312T070000
END:DAYLIGHT
BEGIN:STANDARD
TZOFFSETFROM:-0400
TZOFFSETTO:-0500
TZNAME:EST
DTSTART:20231105T060000
END:STANDARD
BEGIN:DAYLIGHT
TZOFFSETFROM:-0500
TZOFFSETTO:-0400
TZNAME:EDT
DTSTART:20240310T070000
END:DAYLIGHT
BEGIN:STANDARD
TZOFFSETFROM:-0400
TZOFFSETTO:-0500
TZNAME:EST
DTSTART:20241103T060000
END:STANDARD
BEGIN:DAYLIGHT
TZOFFSETFROM:-0500
TZOFFSETTO:-0400
TZNAME:EDT
DTSTART:20250309T070000
END:DAYLIGHT
BEGIN:STANDARD
TZOFFSETFROM:-0400
TZOFFSETTO:-0500
TZNAME:EST
DTSTART:20251102T060000
END:STANDARD
END:VTIMEZONE
BEGIN:VTIMEZONE
TZID:UTC
BEGIN:STANDARD
TZOFFSETFROM:+0000
TZOFFSETTO:+0000
TZNAME:UTC
DTSTART:20180101T000000
END:STANDARD
END:VTIMEZONE
BEGIN:VEVENT
DTSTART;TZID=America/New_York:20240715T183000
DTEND;TZID=America/New_York:20240715T200000
DTSTAMP:20260423T120227
CREATED:20240113T210343Z
LAST-MODIFIED:20240113T210343Z
UID:733-1721068200-1721073600@haigscreekhoa.com
SUMMARY:HOA Meeting
DESCRIPTION:
URL:https://haigscreekhoa.com/event/hoa-meeting-15/
END:VEVENT
BEGIN:VEVENT
DTSTART;TZID=America/New_York:20240427T080000
DTEND;TZID=America/New_York:20240427T120000
DTSTAMP:20260423T120227
CREATED:20240113T210108Z
LAST-MODIFIED:20240113T210108Z
UID:729-1714204800-1714219200@haigscreekhoa.com
SUMMARY:Spring Yard Sale
DESCRIPTION:
URL:https://haigscreekhoa.com/event/spring-yard-sale-5/
END:VEVENT
BEGIN:VEVENT
DTSTART;TZID=America/New_York:20240415T183000
DTEND;TZID=America/New_York:20240415T200000
DTSTAMP:20260423T120227
CREATED:20240113T210220Z
LAST-MODIFIED:20240113T210220Z
UID:731-1713205800-1713211200@haigscreekhoa.com
SUMMARY:HOA Meeting
DESCRIPTION:
URL:https://haigscreekhoa.com/event/hoa-meeting-14/
END:VEVENT
BEGIN:VEVENT
DTSTART;TZID=America/New_York:20240413T160000
DTEND;TZID=America/New_York:20240413T190000
DTSTAMP:20260423T120227
CREATED:20240113T205945Z
LAST-MODIFIED:20240113T205945Z
UID:727-1713024000-1713034800@haigscreekhoa.com
SUMMARY:Haigs Creek Spring Cookout
DESCRIPTION:Spring Cookout at Charlie’s Park
URL:https://haigscreekhoa.com/event/haigs-creek-spring-cookout/
END:VEVENT
BEGIN:VEVENT
DTSTART;TZID=America/New_York:20240113T100000
DTEND;TZID=America/New_York:20240113T113000
DTSTAMP:20260423T120227
CREATED:20230719T221517Z
LAST-MODIFIED:20230719T222042Z
UID:710-1705140000-1705145400@haigscreekhoa.com
SUMMARY:HOA Meeting
DESCRIPTION:MUSC 40 Pinnacle Pkwy 2nd floor\, Elgin
URL:https://haigscreekhoa.com/event/hoa-meeting-13/
END:VEVENT
BEGIN:VEVENT
DTSTART;TZID=America/New_York:20231021T160000
DTEND;TZID=America/New_York:20231021T190000
DTSTAMP:20260423T120227
CREATED:20230719T221318Z
LAST-MODIFIED:20230719T222107Z
UID:708-1697904000-1697914800@haigscreekhoa.com
SUMMARY:Fall Cookout
DESCRIPTION:Haigs Creek Fall Cookout in Charlies Park
URL:https://haigscreekhoa.com/event/fall-cookout-2/
END:VEVENT
BEGIN:VEVENT
DTSTART;TZID=America/New_York:20231016T183000
DTEND;TZID=America/New_York:20231016T200000
DTSTAMP:20260423T120227
CREATED:20221231T004211Z
LAST-MODIFIED:20230719T221020Z
UID:629-1697481000-1697486400@haigscreekhoa.com
SUMMARY:HOA Meeting
DESCRIPTION:MUSC 40 Pinnacle Pkwy 2nd floor\, Elgin
URL:https://haigscreekhoa.com/event/hoa-meeting-12/
END:VEVENT
BEGIN:VEVENT
DTSTART;TZID=America/New_York:20231007T080000
DTEND;TZID=America/New_York:20231007T120000
DTSTAMP:20260423T120227
CREATED:20230719T221207Z
LAST-MODIFIED:20230719T222156Z
UID:706-1696665600-1696680000@haigscreekhoa.com
SUMMARY:Fall Yard Sale
DESCRIPTION:Haigs Creek Neighborhood yard sale
URL:https://haigscreekhoa.com/event/spring-yard-sale-4/
END:VEVENT
BEGIN:VEVENT
DTSTART;TZID=America/New_York:20230717T183000
DTEND;TZID=America/New_York:20230717T200000
DTSTAMP:20260423T120227
CREATED:20221231T004115Z
LAST-MODIFIED:20221231T005128Z
UID:627-1689618600-1689624000@haigscreekhoa.com
SUMMARY:HOA Meeting
DESCRIPTION:At MUSC Health Urgent Care Medical Pavilion
URL:https://haigscreekhoa.com/event/hoa-meeting-11/
END:VEVENT
BEGIN:VEVENT
DTSTART;TZID=America/New_York:20230422T160000
DTEND;TZID=America/New_York:20230422T190000
DTSTAMP:20260423T120227
CREATED:20230115T202132Z
LAST-MODIFIED:20230115T202132Z
UID:652-1682179200-1682190000@haigscreekhoa.com
SUMMARY:Spring Cookout
DESCRIPTION:
URL:https://haigscreekhoa.com/event/spring-cookout-3/
END:VEVENT
BEGIN:VEVENT
DTSTART;TZID=America/New_York:20230417T183000
DTEND;TZID=America/New_York:20230417T200000
DTSTAMP:20260423T120227
CREATED:20221231T004008Z
LAST-MODIFIED:20221231T005147Z
UID:625-1681756200-1681761600@haigscreekhoa.com
SUMMARY:HOA Meeting
DESCRIPTION:At MUSC Health Urgent Care Medical Pavilion
URL:https://haigscreekhoa.com/event/hoa-meeting-10/
END:VEVENT
BEGIN:VEVENT
DTSTART;TZID=America/New_York:20230401T080000
DTEND;TZID=America/New_York:20230401T120000
DTSTAMP:20260423T120227
CREATED:20230115T202043Z
LAST-MODIFIED:20230115T202043Z
UID:650-1680336000-1680350400@haigscreekhoa.com
SUMMARY:Spring Yard Sale
DESCRIPTION:
URL:https://haigscreekhoa.com/event/spring-yard-sale-3/
END:VEVENT
BEGIN:VEVENT
DTSTART;TZID=America/New_York:20230114T100000
DTEND;TZID=America/New_York:20230114T113000
DTSTAMP:20260423T120227
CREATED:20221231T003824Z
LAST-MODIFIED:20221231T005203Z
UID:623-1673690400-1673695800@haigscreekhoa.com
SUMMARY:HOA Meeting
DESCRIPTION:At MUSC Health Urgent Care Medical Pavilion
URL:https://haigscreekhoa.com/event/hoa-meeting-9/
END:VEVENT
BEGIN:VEVENT
DTSTART;TZID=America/New_York:20221017T183000
DTEND;TZID=America/New_York:20221017T200000
DTSTAMP:20260423T120227
CREATED:20220112T231013Z
LAST-MODIFIED:20220113T000605Z
UID:577-1666031400-1666036800@haigscreekhoa.com
SUMMARY:HOA Meeting
DESCRIPTION:The 4th quarter HOA meeting is scheduled for Monday\, October 17\, 2022 at the MUSC Health Urgent Care (on the 2nd floor) 40 Pinnacle Parkway in Elgin (off the frontage Road).
URL:https://haigscreekhoa.com/event/hoa-meeting-8/
END:VEVENT
BEGIN:VEVENT
DTSTART;TZID=America/New_York:20221015T160000
DTEND;TZID=America/New_York:20221015T190000
DTSTAMP:20260423T120227
CREATED:20220112T230156Z
LAST-MODIFIED:20220113T000624Z
UID:570-1665849600-1665860400@haigscreekhoa.com
SUMMARY:Fall Cookout
DESCRIPTION:The Fall Neighborhood Cookout is scheduled for Sat\, Oct 15th at Charlie’s Park
URL:https://haigscreekhoa.com/event/fall-cookout/
END:VEVENT
BEGIN:VEVENT
DTSTART;TZID=America/New_York:20221001T080000
DTEND;TZID=America/New_York:20221001T120000
DTSTAMP:20260423T120227
CREATED:20220112T225331Z
LAST-MODIFIED:20220113T000720Z
UID:568-1664611200-1664625600@haigscreekhoa.com
SUMMARY:Fall Yard Sale
DESCRIPTION:The Fall Neighborhood Yard Sale is scheduled for Sat\, Oct 1st.
URL:https://haigscreekhoa.com/event/fall-yard-sale/
END:VEVENT
BEGIN:VEVENT
DTSTART;TZID=America/New_York:20220718T183000
DTEND;TZID=America/New_York:20220718T200000
DTSTAMP:20260423T120227
CREATED:20220112T230902Z
LAST-MODIFIED:20220113T000538Z
UID:575-1658169000-1658174400@haigscreekhoa.com
SUMMARY:HOA Meeting
DESCRIPTION:The 3rd quarter HOA meeting is scheduled for Monday\, July 18\, 2022 at the MUSC Health Urgent Care (on the 2nd floor) 40 Pinnacle Parkway in Elgin (off the frontage Road).
URL:https://haigscreekhoa.com/event/hoa-meeting-7/
END:VEVENT
BEGIN:VEVENT
DTSTART;TZID=America/New_York:20220418T183000
DTEND;TZID=America/New_York:20220418T200000
DTSTAMP:20260423T120227
CREATED:20220112T230523Z
LAST-MODIFIED:20220113T000513Z
UID:572-1650306600-1650312000@haigscreekhoa.com
SUMMARY:HOA Meeting
DESCRIPTION:The 2nd quarter HOA meeting is scheduled for Monday\, April 18\, 2022 at the MUSC Health Urgent Care (on the 2nd floor) 40 Pinnacle Parkway in Elgin (off the frontage Road).
URL:https://haigscreekhoa.com/event/hoa-meeting-6/
END:VEVENT
BEGIN:VEVENT
DTSTART;TZID=America/New_York:20220409T080000
DTEND;TZID=America/New_York:20220409T120000
DTSTAMP:20260423T120227
CREATED:20220112T225139Z
LAST-MODIFIED:20220113T001004Z
UID:566-1649491200-1649505600@haigscreekhoa.com
SUMMARY:Spring Yard Sale
DESCRIPTION:The Spring Neighborhood Yard Sale is scheduled for  Sat\, April 9th
URL:https://haigscreekhoa.com/event/spring-yard-sale-2/
END:VEVENT
BEGIN:VEVENT
DTSTART;TZID=America/New_York:20220326T160000
DTEND;TZID=America/New_York:20220326T190000
DTSTAMP:20260423T120227
CREATED:20220112T224519Z
LAST-MODIFIED:20220113T001120Z
UID:562-1648310400-1648321200@haigscreekhoa.com
SUMMARY:Spring Cookout
DESCRIPTION:The Spring Neighborhood Cookout is scheduled for Saturday\, March 26 at Charlie’s Park
URL:https://haigscreekhoa.com/event/spring-cookout-2/
END:VEVENT
BEGIN:VEVENT
DTSTART;TZID=America/New_York:20220312T090000
DTEND;TZID=America/New_York:20220312T120000
DTSTAMP:20260423T120227
CREATED:20220112T225011Z
LAST-MODIFIED:20220112T225011Z
UID:564-1647075600-1647086400@haigscreekhoa.com
SUMMARY:Spring Cleanup
DESCRIPTION:Charlie’s Park cleanup is scheduled for Sat\, March 12th
URL:https://haigscreekhoa.com/event/spring-cleanup-2/
END:VEVENT
BEGIN:VEVENT
DTSTART;TZID=America/New_York:20220108T100000
DTEND;TZID=America/New_York:20220108T113000
DTSTAMP:20260423T120227
CREATED:20220101T000607Z
LAST-MODIFIED:20220102T003716Z
UID:541-1641636000-1641641400@haigscreekhoa.com
SUMMARY:HOA Meeting
DESCRIPTION:Our first HOA meeting of 2022 will be Saturday\, January 8 at 10 AM at Kershaw Health\, 2nd floor. 40 Pinnacle Parkway\nElgin\, SC 29045 (Off of Whiting Way – Frontage Road)
URL:https://haigscreekhoa.com/event/hoa-meeting-5/
END:VEVENT
BEGIN:VEVENT
DTSTART;TZID=America/New_York:20211018T183000
DTEND;TZID=America/New_York:20211018T200000
DTSTAMP:20260423T120227
CREATED:20201024T215321Z
LAST-MODIFIED:20201025T181340Z
UID:261-1634581800-1634587200@haigscreekhoa.com
SUMMARY:HOA Meeting
DESCRIPTION:
URL:https://haigscreekhoa.com/event/hoa-meeting-4/
END:VEVENT
BEGIN:VEVENT
DTSTART;TZID=America/New_York:20210719T183000
DTEND;TZID=America/New_York:20210719T200000
DTSTAMP:20260423T120227
CREATED:20201024T215219Z
LAST-MODIFIED:20210714T232042Z
UID:259-1626719400-1626724800@haigscreekhoa.com
SUMMARY:HOA Meeting
DESCRIPTION:Monday\, July 19 at KershawHealth on Whiting Way (frontage road). Masks are required to enter and exit the building.
URL:https://haigscreekhoa.com/event/hoa-meeting-3/
END:VEVENT
BEGIN:VEVENT
DTSTART;TZID=UTC:20210501T150000
DTEND;TZID=UTC:20210501T190000
DTSTAMP:20260423T120227
CREATED:20190210T231003Z
LAST-MODIFIED:20210323T174945Z
UID:119-1619881200-1619895600@haigscreekhoa.com
SUMMARY:Spring Cookout
DESCRIPTION:Annual Spring picnic will be May 1st from 3-7 pm at Charlie’s Park. We ask residents to bring a side dish to share. The HOA will provide paper products\, tea and lemonade\, a bounce house for the children. Ben Connell will be cooking the barbeque for the residents. Please wear a mask when less than 6 feet from someone.
URL:https://haigscreekhoa.com/event/spring-cookout/
LOCATION:Charlie’s Park\, Haigs Creek North\, Elgin\, 29045\, United States
END:VEVENT
BEGIN:VEVENT
DTSTART;TZID=America/New_York:20210419T183000
DTEND;TZID=America/New_York:20210419T200000
DTSTAMP:20260423T120227
CREATED:20201024T215044Z
LAST-MODIFIED:20210410T213126Z
UID:257-1618857000-1618862400@haigscreekhoa.com
SUMMARY:HOA Meeting
DESCRIPTION:Kershaw Health 2nd floor\, limited to the 1st 13 to arrive in order to social distance.  Masks are required.\nAll others can join via Zoom.  Email Haigscreek@gmail.com for the Zoom link.
URL:https://haigscreekhoa.com/event/hoa-meeting-2/
END:VEVENT
BEGIN:VEVENT
DTSTART;TZID=UTC:20210417T080000
DTEND;TZID=UTC:20210417T120000
DTSTAMP:20260423T120227
CREATED:20190210T231228Z
LAST-MODIFIED:20210410T212958Z
UID:121-1618646400-1618660800@haigscreekhoa.com
SUMMARY:Spring Yard Sale
DESCRIPTION:Our annual spring yard sale will take place April 17th from 8 am until 12 noon. The event will be announced in the local newspaper. Please wear a mask when less than 6 feet from someone.
URL:https://haigscreekhoa.com/event/spring-yard-sale/
END:VEVENT
BEGIN:VEVENT
DTSTART;TZID=America/New_York:20210109T100000
DTEND;TZID=America/New_York:20210109T120000
DTSTAMP:20260423T120227
CREATED:20201024T214911Z
LAST-MODIFIED:20201024T214911Z
UID:255-1610186400-1610193600@haigscreekhoa.com
SUMMARY:HOA Meeting
DESCRIPTION:
URL:https://haigscreekhoa.com/event/hoa-meeting/
END:VEVENT
BEGIN:VEVENT
DTSTART;TZID=UTC:20190406T080000
DTEND;TZID=UTC:20190406T120000
DTSTAMP:20260423T120227
CREATED:20190210T230735Z
LAST-MODIFIED:20190210T230753Z
UID:116-1554537600-1554552000@haigscreekhoa.com
SUMMARY:Alternate Spring Cleanup Date
DESCRIPTION:Alternate date for Spring cleanup in case of inclement weather on March 30th
URL:https://haigscreekhoa.com/event/alternate-spring-cleanup-date/
LOCATION:Charlie’s Park\, Haigs Creek North\, Elgin\, 29045\, United States
END:VEVENT
BEGIN:VEVENT
DTSTART;TZID=UTC:20190330T080000
DTEND;TZID=UTC:20190330T123000
DTSTAMP:20260423T120227
CREATED:20190210T223859Z
LAST-MODIFIED:20190210T223859Z
UID:107-1553932800-1553949000@haigscreekhoa.com
SUMMARY:Spring Cleanup
DESCRIPTION:Spring Cleanup at Charlie’s Park
URL:https://haigscreekhoa.com/event/spring-cleanup/
LOCATION:Charlie’s Park\, Haigs Creek North\, Elgin\, 29045\, United States
END:VEVENT
END:VCALENDAR